BEGIN:VCALENDAR
VERSION:2.0
PRODID:-//Kindred Spirits - ECPv6.6.4.2//NONSGML v1.0//EN
CALSCALE:GREGORIAN
METHOD:PUBLISH
X-ORIGINAL-URL:https://kindredwinebar.com
X-WR-CALDESC:Events for Kindred Spirits
REFRESH-INTERVAL;VALUE=DURATION:PT1H
X-Robots-Tag:noindex
X-PUBLISHED-TTL:PT1H
BEGIN:VTIMEZONE
TZID:America/Los_Angeles
BEGIN:DAYLIGHT
TZOFFSETFROM:-0800
TZOFFSETTO:-0700
TZNAME:PDT
DTSTART:20250309T100000
END:DAYLIGHT
BEGIN:STANDARD
TZOFFSETFROM:-0700
TZOFFSETTO:-0800
TZNAME:PST
DTSTART:20251102T090000
END:STANDARD
END:VTIMEZONE
BEGIN:VEVENT
DTSTART;TZID=America/Los_Angeles:20250402T190000
DTEND;TZID=America/Los_Angeles:20250402T210000
DTSTAMP:20260420T010621
CREATED:20250313T181819Z
LAST-MODIFIED:20250313T181819Z
UID:2093-1743620400-1743627600@kindredwinebar.com
SUMMARY:Live Music Event
DESCRIPTION:Enjoy a night of live music at Kindred Spirits Wine Bar! Sip on your favorite wine\, indulge in a delicious meal\, and unwind in the cozy atmosphere while listening to great tunes.
URL:https://kindredwinebar.com/event/live-music-event-9/
LOCATION:CA
CATEGORIES:Live Music
END:VEVENT
BEGIN:VEVENT
DTSTART;TZID=America/Los_Angeles:20250404T190000
DTEND;TZID=America/Los_Angeles:20250404T210000
DTSTAMP:20260420T010621
CREATED:20250313T181857Z
LAST-MODIFIED:20250313T181857Z
UID:2095-1743793200-1743800400@kindredwinebar.com
SUMMARY:Live Music Event
DESCRIPTION:Enjoy a night of live music at Kindred Spirits Wine Bar! Sip on your favorite wine\, indulge in a delicious meal\, and unwind in the cozy atmosphere while listening to great tunes.
URL:https://kindredwinebar.com/event/live-music-event-10/
LOCATION:CA
CATEGORIES:Live Music
END:VEVENT
BEGIN:VEVENT
DTSTART;TZID=America/Los_Angeles:20250409T190000
DTEND;TZID=America/Los_Angeles:20250409T210000
DTSTAMP:20260420T010621
CREATED:20250313T182058Z
LAST-MODIFIED:20250313T182058Z
UID:2097-1744225200-1744232400@kindredwinebar.com
SUMMARY:Live Music Event
DESCRIPTION:Enjoy a night of live music at Kindred Spirits Wine Bar! Sip on your favorite wine\, indulge in a delicious meal\, and unwind in the cozy atmosphere while listening to great tunes.
URL:https://kindredwinebar.com/event/live-music-event-11/
LOCATION:Kindred Spirits Wine Bar\, 24510 Town Center Dr #110\, Valencia\, CA\, 91355\, United States
CATEGORIES:Live Music
END:VEVENT
BEGIN:VEVENT
DTSTART;TZID=America/Los_Angeles:20250416T190000
DTEND;TZID=America/Los_Angeles:20250416T210000
DTSTAMP:20260420T010621
CREATED:20250313T180236Z
LAST-MODIFIED:20250313T181211Z
UID:2079-1744830000-1744837200@kindredwinebar.com
SUMMARY:Live Music Event
DESCRIPTION:Enjoy an evening of live music with the talented Mary White! \nRelax with a glass of wine and soak in the soulful tunes in a cozy\, welcoming atmosphere.
URL:https://kindredwinebar.com/event/live-music-event-mary-white/
LOCATION:Kindred Spirits Wine Bar\, 24510 Town Center Dr #110\, Valencia\, CA\, 91355\, United States
CATEGORIES:Live Music
END:VEVENT
BEGIN:VEVENT
DTSTART;TZID=America/Los_Angeles:20250418T190000
DTEND;TZID=America/Los_Angeles:20250418T210000
DTSTAMP:20260420T010621
CREATED:20250313T182315Z
LAST-MODIFIED:20250313T182315Z
UID:2101-1745002800-1745010000@kindredwinebar.com
SUMMARY:Live Music Event
DESCRIPTION:Enjoy a night of live music at Kindred Spirits Wine Bar! Sip on your favorite wine\, indulge in a delicious meal\, and unwind in the cozy atmosphere while listening to great tunes.
URL:https://kindredwinebar.com/event/live-music-event-13/
LOCATION:CA
CATEGORIES:Live Music
END:VEVENT
BEGIN:VEVENT
DTSTART;TZID=America/Los_Angeles:20250423T190000
DTEND;TZID=America/Los_Angeles:20250423T210000
DTSTAMP:20260420T010621
CREATED:20250313T182409Z
LAST-MODIFIED:20250313T182409Z
UID:2103-1745434800-1745442000@kindredwinebar.com
SUMMARY:Live Music Event
DESCRIPTION:Enjoy a night of live music at Kindred Spirits Wine Bar! Sip on your favorite wine\, indulge in a delicious meal\, and unwind in the cozy atmosphere while listening to great tunes.
URL:https://kindredwinebar.com/event/live-music-event-14/
LOCATION:Kindred Spirits Wine Bar\, 24510 Town Center Dr #110\, Valencia\, CA\, 91355\, United States
CATEGORIES:Live Music
END:VEVENT
BEGIN:VEVENT
DTSTART;TZID=America/Los_Angeles:20250425T190000
DTEND;TZID=America/Los_Angeles:20250425T210000
DTSTAMP:20260420T010621
CREATED:20250313T182458Z
LAST-MODIFIED:20250313T182458Z
UID:2105-1745607600-1745614800@kindredwinebar.com
SUMMARY:Live Music Event
DESCRIPTION:Enjoy a night of live music at Kindred Spirits Wine Bar! Sip on your favorite wine\, indulge in a delicious meal\, and unwind in the cozy atmosphere while listening to great tunes.
URL:https://kindredwinebar.com/event/live-music-event-15/
LOCATION:Kindred Spirits Wine Bar\, 24510 Town Center Dr #110\, Valencia\, CA\, 91355\, United States
CATEGORIES:Live Music
END:VEVENT
BEGIN:VEVENT
DTSTART;TZID=America/Los_Angeles:20250430T190000
DTEND;TZID=America/Los_Angeles:20250430T210000
DTSTAMP:20260420T010621
CREATED:20250313T182543Z
LAST-MODIFIED:20250313T182543Z
UID:2107-1746039600-1746046800@kindredwinebar.com
SUMMARY:Live Music Event
DESCRIPTION:Enjoy a night of live music at Kindred Spirits Wine Bar! Sip on your favorite wine\, indulge in a delicious meal\, and unwind in the cozy atmosphere while listening to great tunes.
URL:https://kindredwinebar.com/event/live-music-event-16/
LOCATION:Kindred Spirits Wine Bar\, 24510 Town Center Dr #110\, Valencia\, CA\, 91355\, United States
CATEGORIES:Live Music
END:VEVENT
END:VCALENDAR